BEGIN:VCALENDAR
VERSION:2.0
PRODID:Events Booking
BEGIN:VEVENT
UID:69eb9fbe5b4b2
SUMMARY:All Day Eco Marine Tour Blasket Island (7hrs)
DESCRIPTION:Includes landing on the Great Blasket Island!
 
 Tour departs
  from Ventry Pier at 1000 hrs
 Go ashore on the Great Blasket Island at 1
 100 hrs
 Get picked up from Great Blasket at 1400 hrs to continue on the 
 afternoon Dolphin &amp\; Whale Watching Tour
 Arrive back at Ventry at ap
 prox 1700 hrs
 
DTSTART:20260614T090000Z
DTEND:20260614T160000Z
DTSTAMP:20260424T125214Z
ORGANIZER;CN=Blasket Island Eco Marine Tours:MAILTO:contact@marinetours.ie
END:VEVENT
END:VCALENDAR